Felt | Verdi |
AlreadyApplied | True |
Aperture | 13.0 |
ApertureValue | 13.0 |
BitsPerSample | 8 |
BlueHue | 0 |
BlueSaturation | 0 |
Brightness | 0 |
CameraProfile | Embedded |
ChromaticAberrationB | 0 |
ChromaticAberrationR | 0 |
CircleOfConfusion | 0.030 mm |
Clarity | 0 |
ColorComponents | 3 |
ColorNoiseReduction | 0 |
ColorSpace | Uncalibrated |
Contrast | 0 |
ConvertToGrayscale | False |
CreateDate (1) | 2011:05:29 11:57:00+02:00 |
CreateDate | 2011:05:29 11:57:00 |
CreatorTool | Adobe Photoshop Lightroom |
CropAngle | 0 |
CropBottom | 0.992048 |
CropHeight | 1111 |
CropLeft | 0.004785 |
CropRight | 0.896104 |
CropTop | 0 |
CropUnit | pixels |
CropWidth | 611 |
CustomRendered | Normal |
DateTimeDigitized | 2011:05:29 11:57:00+02:00 |
DateTimeOriginal (1) | 2011:05:29 11:57:00+02:00 |
DateTimeOriginal | 2011:05:29 11:57:00 |
Defringe | 0 |
ExifImageHeight | 1111 |
ExifImageWidth | 611 |
Exposure | 0.00 |
ExposureCompensation | +1/3 |
ExposureMode | Auto |
ExposureProgram | Aperture-priority AE |
ExposureTime | 1/13 |
FillLight | 0 |
Firmware | 1.1.0 |
Flash | Off, Did not fire |
FlashCompensation | 0 |
FlashFired | False |
FlashFunction | False |
FlashMode | Off |
FlashRedEyeMode | False |
FlashReturn | No return detection |
FNumber | 13.0 |
FocalLength | 15.0 mm |
FocalLength35efl | 15.0 mm (35 mm equivalent: 15.0 mm) |
Format | image/tiff |
FOV | 100.3 deg |
GradientBasedCorrActive | true |
GradientBasedCorrAmount | 1.000000 |
GradientBasedCorrBrightness (1) | -0.270588 |
GradientBasedCorrBrightness (2) | -0.105882 |
GradientBasedCorrBrightness (3) | -0.152941 |
GradientBasedCorrBrightness (4) | -0.082353 |
GradientBasedCorrBrightness (5) | 0.230000 |
GradientBasedCorrBrightness (6) | 0.152941 |
GradientBasedCorrBrightness (7) | 0.035294 |
GradientBasedCorrBrightness (8) | 0.082353 |
GradientBasedCorrBrightness | 0.200000 |
GradientBasedCorrClarity | 0.011765 |
GradientBasedCorrContrast | 0.000000 |
GradientBasedCorrExposure | 0.000000 |
GradientBasedCorrHue | 7.000000 |
GradientBasedCorrMaskFullX (1) | -0.009740 |
GradientBasedCorrMaskFullX (2) | 0.925325 |
GradientBasedCorrMaskFullX (3) | 0.259740 |
GradientBasedCorrMaskFullX (4) | 0.496753 |
GradientBasedCorrMaskFullX (5) | 0.888819 |
GradientBasedCorrMaskFullX (6) | -0.006902 |
GradientBasedCorrMaskFullX (7) | 0.000000 |
GradientBasedCorrMaskFullX (8) | -0.029221 |
GradientBasedCorrMaskFullX (9) | 0.895721 |
GradientBasedCorrMaskFullX | 0.012654 |
GradientBasedCorrMaskFullY (1) | -0.005964 |
GradientBasedCorrMaskFullY (2) | 0.387674 |
GradientBasedCorrMaskFullY (4) | 0.992048 |
GradientBasedCorrMaskFullY (5) | -0.005863 |
GradientBasedCorrMaskFullY (6) | -0.006098 |
GradientBasedCorrMaskFullY (7) | -0.011928 |
GradientBasedCorrMaskFullY (8) | -0.013917 |
GradientBasedCorrMaskFullY (9) | 0.994159 |
GradientBasedCorrMaskFullY | 0.998146 |
GradientBasedCorrMaskValue | 1.000000 |
GradientBasedCorrMaskWhat | Mask/Gradient |
GradientBasedCorrMaskZeroX (1) | 0.334416 |
GradientBasedCorrMaskZeroX (2) | 0.626623 |
GradientBasedCorrMaskZeroX (3) | 0.275974 |
GradientBasedCorrMaskZeroX (4) | 0.496753 |
GradientBasedCorrMaskZeroX (5) | 0.839355 |
GradientBasedCorrMaskZeroX (6) | 0.088959 |
GradientBasedCorrMaskZeroX (7) | 0.224026 |
GradientBasedCorrMaskZeroX (8) | 0.714286 |
GradientBasedCorrMaskZeroX (9) | 0.843956 |
GradientBasedCorrMaskZeroX | 0.034126 |
GradientBasedCorrMaskZeroY (1) | 0.182903 |
GradientBasedCorrMaskZeroY (2) | 0.387674 |
GradientBasedCorrMaskZeroY (3) | 0.095427 |
GradientBasedCorrMaskZeroY (4) | 0.942346 |
GradientBasedCorrMaskZeroY (5) | 0.082552 |
GradientBasedCorrMaskZeroY (6) | 0.066135 |
GradientBasedCorrMaskZeroY (7) | 0.105368 |
GradientBasedCorrMaskZeroY (8) | 0.427435 |
GradientBasedCorrMaskZeroY (9) | 0.928022 |
GradientBasedCorrMaskZeroY | 0.944674 |
GradientBasedCorrSaturation | 0.000000 |
GradientBasedCorrSharpness | 0.000000 |
GradientBasedCorrWhat | Correction |
GreenHue | 0 |
GreenSaturation | 0 |
HasCrop | True |
HasSettings | True |
HighlightRecovery | 0 |
HueAdjustmentAqua | 0 |
HueAdjustmentBlue | 0 |
HueAdjustmentGreen | 0 |
HueAdjustmentMagenta | 0 |
HueAdjustmentOrange | 0 |
HueAdjustmentPurple | 0 |
HueAdjustmentRed | 0 |
HueAdjustmentYellow | 0 |
HyperfocalDistance | 0.58 m |
ImageHeight | 1111 |
ImageNumber | 8 |
ImageSize | 611x1111 |
ImageWidth | 611 |
IncrementalTemperature | 0 |
IncrementalTint | 0 |
ISO | 640 |
Lens | EF15mm f/2.8 Fisheye |
LensInfo | 15mm f/? |
LightValue | 8.4 |
LuminanceAdjustmentAqua | 0 |
LuminanceAdjustmentBlue | 0 |
LuminanceAdjustmentGreen | 0 |
LuminanceAdjustmentMagenta | 0 |
LuminanceAdjustmentOrange | 0 |
LuminanceAdjustmentPurple | 0 |
LuminanceAdjustmentRed | 0 |
LuminanceAdjustmentYellow | 0 |
LuminanceSmoothing | 0 |
Make | Canon |
MaxApertureValue | 2.8 |
Megapixels | 0.679 |
MeteringMode | Multi-segment |
Model | Canon EOS 5D |
ModifyDate (1) | 2011:05:29 19:18:11+02:00 |
ModifyDate | 2011:05:29 19:18:11 |
ParametricDarks | 0 |
ParametricHighlights | 0 |
ParametricHighlightSplit | 75 |
ParametricLights | 0 |
ParametricMidtoneSplit | 50 |
ParametricShadows | 0 |
ParametricShadowSplit | 25 |
PostCropVignetteAmount | 0 |
ProfileDescription | Adobe RGB (1998) |
RedHue | 0 |
RedSaturation | 0 |
Saturation | 0 |
SaturationAdjustmentAqua | 0 |
SaturationAdjustmentBlue | 0 |
SaturationAdjustmentGreen | 0 |
SaturationAdjustmentMagenta | 0 |
SaturationAdjustmentOrange | 0 |
SaturationAdjustmentPurple | 0 |
SaturationAdjustmentRed | 0 |
SaturationAdjustmentYellow | -64 |
ScaleFactor35efl | 1.0 |
SceneCaptureType | Standard |
SerialNumber | 2721201972 |
Shadows | 0 |
ShadowTint | 0 |
SharpenDetail | 25 |
SharpenEdgeMasking | 0 |
SharpenRadius | +1.0 |
Sharpness | 0 |
ShutterSpeed | 1/13 |
ShutterSpeedValue | 1/13 |
Software | Adobe Photoshop CS4 Macintosh |
SplitToningBalance | 0 |
SplitToningHighlightHue | 0 |
SplitToningHighlightSaturation | 0 |
SplitToningShadowHue | 0 |
SplitToningShadowSaturation | 0 |
ToneCurve | 0, 0, 255, 255 |
ToneCurveName | Linear |
Version | 4.5 |
Vibrance | 0 |
VignetteAmount | 0 |
WhiteBalance (2) | As Shot |
WhiteBalance | Auto |