Felt | Verdi |
AlreadyApplied | True |
Aperture | 5.0 |
ApertureValue | 5.0 |
BitsPerSample | 8 |
BlueHue | -60 |
BlueSaturation | +3 |
Brightness | +29 |
CameraProfile | ACR 2.4 |
ChromaticAberrationB | 0 |
ChromaticAberrationR | 0 |
CircleOfConfusion | 0.019 mm |
Clarity | 0 |
ColorComponents | 3 |
ColorNoiseReduction | 25 |
ColorSpace | Uncalibrated |
Contrast | +3 |
ConvertToGrayscale | False |
CreateDate (1) | 2010:02:26 16:29:30.03+01:00 |
CreateDate | 2010:02:26 16:29:30 |
CreatorTool | Adobe Photoshop Lightroom |
CustomRendered | Normal |
DateTimeDigitized | 2010:02:26 16:29:30.03+01:00 |
DateTimeOriginal (1) | 2010:02:26 16:29:30.03+01:00 |
DateTimeOriginal | 2010:02:26 16:29:30 |
Defringe | 0 |
ExifImageHeight | 2848 |
ExifImageWidth | 4272 |
Exposure | +0.29 |
ExposureCompensation | 0 |
ExposureMode | Manual |
ExposureProgram | Manual |
ExposureTime | 1/80 |
FillLight | 16 |
Firmware | 1.1.0 |
Flash | On, Fired |
FlashCompensation | 2 |
FlashFired | True |
FlashFunction | False |
FlashMode | On |
FlashRedEyeMode | False |
FlashReturn | No return detection |
FNumber | 5.0 |
FocalLength | 100.0 mm |
FocalLength35efl | 100.0 mm (35 mm equivalent: 161.5 mm) |
Format | image/jpeg |
FOV | 12.7 deg |
GreenHue | +100 |
GreenSaturation | +100 |
HasCrop | False |
HasSettings | True |
HighlightRecovery | 0 |
HueAdjustmentAqua | 0 |
HueAdjustmentBlue | 0 |
HueAdjustmentGreen | 0 |
HueAdjustmentMagenta | 0 |
HueAdjustmentOrange | 0 |
HueAdjustmentPurple | 0 |
HueAdjustmentRed | 0 |
HueAdjustmentYellow | 0 |
HyperfocalDistance | 107.53 m |
ImageHeight | 2848 |
ImageNumber | 0 |
ImageSize | 4272x2848 |
ImageWidth | 4272 |
IncrementalTemperature | -29 |
IncrementalTint | -65 |
ISO | 100 |
Lens | EF100mm f/2.8 Macro USM |
LensInfo | 100mm f/? |
LightValue | 11.0 |
LuminanceAdjustmentAqua | 0 |
LuminanceAdjustmentBlue | 0 |
LuminanceAdjustmentGreen | 0 |
LuminanceAdjustmentMagenta | 0 |
LuminanceAdjustmentOrange | 0 |
LuminanceAdjustmentPurple | 0 |
LuminanceAdjustmentRed | 0 |
LuminanceAdjustmentYellow | 0 |
LuminanceSmoothing | 0 |
Make | Canon |
MaxApertureValue | 2.8 |
Megapixels | 12.2 |
MeteringMode | Multi-segment |
Model | Canon EOS 450D |
ModifyDate (1) | 2010:02:26 16:06:19+01:00 |
ModifyDate | 2010:02:26 16:06:19 |
PaintCorrectionActive | true |
PaintCorrectionAmount | 1.000000 |
PaintCorrectionBrightness | 0.000000 |
PaintCorrectionClarity (1) | -0.753000 |
PaintCorrectionClarity | 0.000000 |
PaintCorrectionContrast | 0.000000 |
PaintCorrectionExposure (1) | 0.000000 |
PaintCorrectionExposure | -0.175000 |
PaintCorrectionHue (1) | 240.000000 |
PaintCorrectionHue | 0.000000 |
PaintCorrectionMaskCenterWeight | 0.019522 |
PaintCorrectionMaskFlow | 1.000000 |
PaintCorrectionMaskRadius (1) | 0.148268 |
PaintCorrectionMaskRadius (2) | 0.041616 |
PaintCorrectionMaskRadius | 0.034905 |
PaintCorrectionMaskValue | 1.000000 |
PaintCorrectionMaskWhat | Mask/Paint |
PaintCorrectionSaturation | 0.000000 |
PaintCorrectionSharpness (1) | 0.244419 |
PaintCorrectionSharpness | 0.000000 |
PaintCorrectionWhat | Correction |
ParametricDarks | -3 |
ParametricHighlights | 0 |
ParametricHighlightSplit | 75 |
ParametricLights | 0 |
ParametricMidtoneSplit | 50 |
ParametricShadows | -14 |
ParametricShadowSplit | 25 |
PostCropVignetteAmount | +64 |
PostCropVignetteFeather | 25 |
PostCropVignetteMidpoint | 15 |
PostCropVignetteRoundness | -45 |
ProfileDescription | sRGB IEC61966-2.1 |
RedHue | +100 |
RedSaturation | -100 |
Saturation | -86 |
SaturationAdjustmentAqua | 0 |
SaturationAdjustmentBlue | +83 |
SaturationAdjustmentGreen | 0 |
SaturationAdjustmentMagenta | 0 |
SaturationAdjustmentOrange | 0 |
SaturationAdjustmentPurple | +42 |
SaturationAdjustmentRed | 0 |
SaturationAdjustmentYellow | 0 |
ScaleFactor35efl | 1.6 |
SceneCaptureType | Standard |
SerialNumber | 1630308491 |
Shadows | 35 |
ShadowTint | -4 |
SharpenDetail | 25 |
SharpenEdgeMasking | 0 |
SharpenRadius | +1.0 |
Sharpness | 25 |
ShutterSpeed | 1/80 |
ShutterSpeedValue | 1/80 |
SidecarForExtension | CR2 |
Software | Adobe Photoshop CS4 Windows |
SplitToningBalance | 0 |
SplitToningHighlightHue | 0 |
SplitToningHighlightSaturation | 0 |
SplitToningShadowHue | 0 |
SplitToningShadowSaturation | 0 |
ToneCurve | 0, 0, 255, 255 |
ToneCurveName | Linear |
Version | 4.5 |
Vibrance | +43 |
VignetteAmount | 0 |
WhiteBalance (2) | Custom |
WhiteBalance | Auto |