Felt | Verdi |
AlreadyApplied | True |
Artist | Igor Kostin |
AutoLateralCA | 0 |
BitsPerSample | 8 |
Blacks2012 | 0 |
BlueHue | 0 |
BlueSaturation | 0 |
By-line | Igor Kostin |
CameraProfile | Adobe Standard |
CircGradBasedCorrActive | true |
CircGradBasedCorrAmount | 1.000000 |
CircGradBasedCorrBrightness | 0.000000 |
CircGradBasedCorrClarity2012 | 0.000000 |
CircGradBasedCorrContrast2012 | 0.000000 |
CircGradBasedCorrCorrectionRangeMaskColorAmount | 0.500000 |
CircGradBasedCorrCorrectionRangeMaskLumFeather | 0.500000 |
CircGradBasedCorrCorrectionRangeMaskLumMax | 1.000000 |
CircGradBasedCorrCorrectionRangeMaskLumMin | 0.000000 |
CircGradBasedCorrCorrectionRangeMaskType | 0 |
CircGradBasedCorrCorrectionRangeMaskVersion | +2 |
CircGradBasedCorrDefringe | 0.000000 |
CircGradBasedCorrExposure2012 | -0.517821 |
CircGradBasedCorrHighlights2012 | 0.000000 |
CircGradBasedCorrHue | 25.000000 |
CircGradBasedCorrLuminanceNoise | 0.000000 |
CircGradBasedCorrMaskAngle | 0.000000 |
CircGradBasedCorrMaskBottom | 0.965941 |
CircGradBasedCorrMaskFeather | +63 |
CircGradBasedCorrMaskFlipped | false |
CircGradBasedCorrMaskLeft | 0.017256 |
CircGradBasedCorrMaskMidpoint | +50 |
CircGradBasedCorrMaskRight | 0.969732 |
CircGradBasedCorrMaskRoundness | 0 |
CircGradBasedCorrMaskTop | 0.041358 |
CircGradBasedCorrMaskValue | 1.000000 |
CircGradBasedCorrMaskVersion | +2 |
CircGradBasedCorrMaskWhat | Mask/CircularGradient |
CircGradBasedCorrMoire | 0.000000 |
CircGradBasedCorrSaturation (1) | 0.063879 |
CircGradBasedCorrSaturation | 0.090000 |
CircGradBasedCorrShadows2012 | 0.000000 |
CircGradBasedCorrSharpness | 0.000000 |
CircGradBasedCorrTemperature | 0.084099 |
CircGradBasedCorrTint | 0.000000 |
CircGradBasedCorrWhat | Correction |
CircleOfConfusion | 0.007 mm |
Clarity2012 | +15 |
ColorComponents | 3 |
ColorNoiseReduction | 25 |
ColorNoiseReductionDetail | 50 |
ColorNoiseReductionSmoothness | 50 |
ColorSpace | sRGB |
ColorTemperature | 5200 |
ColorTransform | YCbCr |
Contrast2012 | 0 |
ConvertToGrayscale | False |
Copyright | All rights reserved |
CopyrightFlag | True |
CopyrightNotice | All rights reserved |
CreateDate (1) | 2018:06:16 14:03:44.84 |
CreateDate | 2018:06:16 14:03:44 |
Creator | Igor Kostin |
CreatorTool | Adobe Photoshop Lightroom Classic 7.5 (Macintosh) |
CropAngle | 0 |
CropBottom | 0.971899 |
CropConstrainToWarp | 0 |
CropLeft | 0.173114 |
CropRight | 0.811982 |
CropTop | 0.013597 |
CustomRendered | Normal |
DateCreated (1) | 2018:06:16 |
DateCreated | 2018:06:16 14:03:44.84 |
DateTimeOriginal | 2018:06:16 14:03:44 |
DefringeGreenAmount | 0 |
DefringeGreenHueHi | 60 |
DefringeGreenHueLo | 40 |
DefringePurpleAmount | 0 |
DefringePurpleHueHi | 70 |
DefringePurpleHueLo | 30 |
Dehaze | 0 |
Exposure2012 | 0.00 |
ExposureCompensation | 0 |
ExposureMode | Manual |
ExposureProgram | Manual |
ExposureTime | 1/100 |
Firmware | 1.0.2 |
Flash | Off, Did not fire |
FlashCompensation | 0 |
Format | image/jpeg |
GradientBasedCorrActive | true |
GradientBasedCorrAmount | 1.000000 |
GradientBasedCorrBrightness | 0.000000 |
GradientBasedCorrClarity2012 | 0.000000 |
GradientBasedCorrContrast2012 | 0.000000 |
GradientBasedCorrCorrectionRangeMaskColorAmount | 0.500000 |
GradientBasedCorrCorrectionRangeMaskLumFeather | 0.500000 |
GradientBasedCorrCorrectionRangeMaskLumMax | 1.000000 |
GradientBasedCorrCorrectionRangeMaskLumMin | 0.000000 |
GradientBasedCorrCorrectionRangeMaskType | 0 |
GradientBasedCorrCorrectionRangeMaskVersion | +2 |
GradientBasedCorrDefringe | 0.000000 |
GradientBasedCorrExposure2012 (1) | -0.236571 |
GradientBasedCorrExposure2012 (2) | -0.326644 |
GradientBasedCorrExposure2012 (3) | -0.304585 |
GradientBasedCorrExposure2012 | -0.333384 |
GradientBasedCorrHighlights2012 (1) | 0.013327 |
GradientBasedCorrHighlights2012 (2) | 0.003983 |
GradientBasedCorrHighlights2012 | 0.000000 |
GradientBasedCorrHue (1) | 25.152300 |
GradientBasedCorrHue | 25.000000 |
GradientBasedCorrLuminanceNoise | 0.000000 |
GradientBasedCorrMaskFullX (1) | 0.463662 |
GradientBasedCorrMaskFullX (2) | -0.000617 |
GradientBasedCorrMaskFullX (3) | 0.483921 |
GradientBasedCorrMaskFullX | 1.005920 |
GradientBasedCorrMaskFullY (1) | -0.004934 |
GradientBasedCorrMaskFullY (2) | 0.378906 |
GradientBasedCorrMaskFullY (3) | 1.002260 |
GradientBasedCorrMaskFullY | 0.493455 |
GradientBasedCorrMaskValue | 1.000000 |
GradientBasedCorrMaskWhat | Mask/Gradient |
GradientBasedCorrMaskZeroX (1) | 0.463662 |
GradientBasedCorrMaskZeroX (2) | 0.023830 |
GradientBasedCorrMaskZeroX (3) | 0.484132 |
GradientBasedCorrMaskZeroX | 0.969569 |
GradientBasedCorrMaskZeroY (1) | 0.034414 |
GradientBasedCorrMaskZeroY (2) | 0.378906 |
GradientBasedCorrMaskZeroY (3) | 0.964355 |
GradientBasedCorrMaskZeroY | 0.493455 |
GradientBasedCorrMoire | 0.000000 |
GradientBasedCorrSaturation (2) | 0.086797 |
GradientBasedCorrSaturation (5) | 0.000000 |
GradientBasedCorrSaturation | 0.090000 |
GradientBasedCorrShadows2012 | 0.000000 |
GradientBasedCorrSharpness | 0.000000 |
GradientBasedCorrTemperature | 0.000000 |
GradientBasedCorrTint | 0.000000 |
GradientBasedCorrWhat | Correction |
GrainAmount | 0 |
GreenHue | 0 |
GreenSaturation | 0 |
HasCrop | True |
HasSettings | True |
Highlights2012 | -25 |
HueAdjustmentAqua | 0 |
HueAdjustmentBlue | 0 |
HueAdjustmentGreen | 0 |
HueAdjustmentMagenta | 0 |
HueAdjustmentOrange | 0 |
HueAdjustmentPurple | 0 |
HueAdjustmentRed | 0 |
HueAdjustmentYellow | 0 |
ImageHeight | 1200 |
ImageNumber | 0 |
ImageSize | 1200x1200 |
ImageWidth | 1200 |
ISO | 100 |
Keywords | 2018, BOFK, Bodø, IgorKostin, Island, Norway |
LensManualDistortionAmount | 0 |
LensProfileEnable | 0 |
LensProfileSetup | LensDefaults |
LensSerialNumber | 0000000000 |
LookAmount | 1.000000 |
LookGroup | Profiles |
LookName | Adobe Color |
LookParametersCameraProfile | Adobe Standard |
LookParametersConvertToGrayscale | False |
LookParametersLookTable | E1095149FDB39D7A057BAB208837E2E1 |
LookParametersProcessVersion | 10.0 |
LookParametersToneCurvePV2012 | 0, 0, 22, 16, 40, 35, 127, 127, 224, 230, 240, 246, 255, 255 |
LookParametersToneCurvePV2012Blue | 0, 0, 255, 255 |
LookParametersToneCurvePV2012Green | 0, 0, 255, 255 |
LookParametersToneCurvePV2012Red | 0, 0, 255, 255 |
LookParametersVersion | 10.5 |
LookSupportsAmount | false |
LookSupportsMonochrome | false |
LookSupportsOutputReferred | false |
LuminanceAdjustmentAqua | 0 |
LuminanceAdjustmentBlue | 0 |
LuminanceAdjustmentGreen | +66 |
LuminanceAdjustmentMagenta | 0 |
LuminanceAdjustmentOrange | 0 |
LuminanceAdjustmentPurple | 0 |
LuminanceAdjustmentRed | 0 |
LuminanceAdjustmentYellow | -36 |
LuminanceSmoothing | 0 |
Make | Canon |
Marked | True |
Megapixels | 1.4 |
MeteringMode | Multi-segment |
Model | Canon EOS 6D Mark II |
ModifyDate (1) | 2018:08:30 12:13:02+02:00 |
ModifyDate | 2018:08:30 12:13:02 |
OverrideLookVignette | False |
ParametricDarks | 0 |
ParametricHighlights | 0 |
ParametricHighlightSplit | 75 |
ParametricLights | 0 |
ParametricMidtoneSplit | 50 |
ParametricShadows | 0 |
ParametricShadowSplit | 25 |
PerspectiveAspect | 0 |
PerspectiveHorizontal | 0 |
PerspectiveRotate | 0.0 |
PerspectiveScale | 100 |
PerspectiveUpright | 0 |
PerspectiveVertical | 0 |
PerspectiveX | 0.00 |
PerspectiveY | 0.00 |
PostCropVignetteAmount | 0 |
ProcessVersion | 10.0 |
ProfileDescription | sRGB IEC61966-2.1 |
Rating | 5 |
RawFileName | 20180616_Island-298.CR2 |
RecommendedExposureIndex | 100 |
RedHue | 0 |
RedSaturation | 0 |
Rights | All rights reserved |
Saturation | 0 |
SaturationAdjustmentAqua | 0 |
SaturationAdjustmentBlue | 0 |
SaturationAdjustmentGreen | +56 |
SaturationAdjustmentMagenta | 0 |
SaturationAdjustmentOrange | +72 |
SaturationAdjustmentPurple | 0 |
SaturationAdjustmentRed | 0 |
SaturationAdjustmentYellow | +53 |
ScaleFactor35efl | 4.4 |
SceneCaptureType | Standard |
SensitivityType | Recommended Exposure Index |
SerialNumber | 063051006686 |
Shadows2012 | 0 |
ShadowTint | 0 |
SharpenDetail | 25 |
SharpenEdgeMasking | 0 |
SharpenRadius | +1.0 |
Sharpness | 40 |
ShutterSpeed | 1/100 |
ShutterSpeedValue | 1/100 |
Software | Adobe Photoshop Lightroom Classic 7.5 (Macintosh) |
SplitToningBalance | 0 |
SplitToningHighlightHue | 0 |
SplitToningHighlightSaturation | 0 |
SplitToningShadowHue | 0 |
SplitToningShadowSaturation | 0 |
Subject | 2018, BOFK, Bodø, IgorKostin, Island, Norway |
Tint | +1 |
ToneCurve | 0, 0, 255, 255 |
ToneCurveBlue | 0, 0, 255, 255 |
ToneCurveGreen | 0, 0, 255, 255 |
ToneCurveName | Linear |
ToneCurveName2012 | Custom |
ToneCurvePV2012 | 0, 43, 41, 48, 77, 73, 126, 124, 217, 223, 255, 252 |
ToneCurvePV2012Blue | 0, 0, 255, 255 |
ToneCurvePV2012Green | 0, 0, 255, 255 |
ToneCurvePV2012Red | 0, 0, 255, 255 |
ToneCurveRed | 0, 0, 255, 255 |
ToneMapStrength | 0 |
UsageTerms | Please contact |
Version | 10.5 |
Vibrance | +9 |
VignetteAmount | 0 |
WhiteBalance (1) | As Shot |
WhiteBalance | Auto |
Whites2012 | -16 |