Felt | Verdi |
AlreadyApplied | True |
Aperture | 3.5 |
ApertureValue | 3.5 |
ApproximateFocusDistance | 2.48 |
Artist | Igor Kostin |
AutoLateralCA | 0 |
BitsPerSample | 8 |
Blacks2012 | -25 |
BlueHue | -47 |
BlueSaturation | +51 |
By-line | Igor Kostin |
CameraProfile | Camera Standard |
CircleOfConfusion | 0.004 mm |
Clarity2012 | +26 |
ColorComponents | 3 |
ColorNoiseReduction | 25 |
ColorNoiseReductionDetail | 50 |
ColorNoiseReductionSmoothness | 50 |
ColorSpace | sRGB |
ColorTemperature | 6050 |
ColorTransform | YCbCr |
Contrast2012 | 0 |
ConvertToGrayscale | False |
Copyright | All rights reserved |
CopyrightFlag | True |
CopyrightNotice | All rights reserved |
Country | Iceland |
Country-PrimaryLocationCode | IS |
Country-PrimaryLocationName | Iceland |
CountryCode | IS |
CreateDate (1) | 2018:06:15 13:27:09.94 |
CreateDate | 2018:06:15 13:27:09 |
Creator | Igor Kostin |
CreatorTool | Adobe Photoshop Lightroom Classic 7.4 (Macintosh) |
CropAngle | 0 |
CropBottom | 0.815022 |
CropConstrainToWarp | 0 |
CropLeft | 0.230824 |
CropRight | 0.976204 |
CropTop | 0.042161 |
CustomRendered | Normal |
DateCreated (1) | 2018:06:15 |
DateCreated | 2018:06:15 13:27:09.94 |
DateTimeOriginal | 2018:06:15 13:27:09 |
DefringeGreenAmount | 0 |
DefringeGreenHueHi | 60 |
DefringeGreenHueLo | 40 |
DefringePurpleAmount | 0 |
DefringePurpleHueHi | 70 |
DefringePurpleHueLo | 30 |
Dehaze | 0 |
DOF | 0.23 m (2.37 - 2.60 m) |
Exposure2012 | 0.00 |
ExposureCompensation | 0 |
ExposureMode | Auto |
ExposureProgram | Aperture-priority AE |
ExposureTime | 1/4000 |
Firmware | 1.1.2 |
Flash | Off, Did not fire |
FlashCompensation | 0 |
FNumber | 3.5 |
FocalLength | 28.0 mm |
FocalLength35efl | 28.0 mm (35 mm equivalent: 202.6 mm) |
Format | image/jpeg |
FOV | 10.2 deg |
GPSAltitude (1) | 22.8 m |
GPSAltitude | 22.8 m Above Sea Level |
GPSAltitudeRef | Above Sea Level |
GPSDateStamp | 2018:06:15 |
GPSDateTime | 2018:06:15 11:21:40.68Z |
GPSDOP | 1.8 |
GPSImgDirectionRef | Magnetic North |
GPSLatitude (1) | 65 deg 32' 32.29" |
GPSLatitude | 65 deg 32' 32.29" N |
GPSLatitudeRef | North |
GPSLongitude (1) | 13 deg 45' 19.05" |
GPSLongitude | 13 deg 45' 19.05" W |
GPSLongitudeRef | West |
GPSMapDatum | WGS-84 |
GPSMeasureMode | 3-Dimensional Measurement |
GPSPosition | 65 deg 32' 32.29" N, 13 deg 45' 19.05" W |
GPSSatellites | 21 |
GPSStatus | Measurement Active |
GPSTimeStamp | 11:21:40.68 |
GPSVersionID | 2.3.0.0 |
GradientBasedCorrActive | true |
GradientBasedCorrAmount | 1.000000 |
GradientBasedCorrBrightness | 0.000000 |
GradientBasedCorrClarity2012 | 0.000000 |
GradientBasedCorrContrast2012 | 0.000000 |
GradientBasedCorrCorrectionRangeMaskColorAmount | 0.500000 |
GradientBasedCorrCorrectionRangeMaskLumFeather | 0.500000 |
GradientBasedCorrCorrectionRangeMaskLumMax | 1.000000 |
GradientBasedCorrCorrectionRangeMaskLumMin | 0.000000 |
GradientBasedCorrCorrectionRangeMaskType | 0 |
GradientBasedCorrCorrectionRangeMaskVersion | +2 |
GradientBasedCorrDefringe | 0.000000 |
GradientBasedCorrExposure2012 | 0.000000 |
GradientBasedCorrHighlights2012 | 0.000000 |
GradientBasedCorrHue | 126.000000 |
GradientBasedCorrLuminanceNoise | 0.000000 |
GradientBasedCorrMaskFullX | -0.092247 |
GradientBasedCorrMaskFullY | 0.487482 |
GradientBasedCorrMaskValue | 1.000000 |
GradientBasedCorrMaskWhat | Mask/Gradient |
GradientBasedCorrMaskZeroX | -0.103042 |
GradientBasedCorrMaskZeroY | 0.487482 |
GradientBasedCorrMoire | 0.000000 |
GradientBasedCorrSaturation | 0.000000 |
GradientBasedCorrShadows2012 | 0.000000 |
GradientBasedCorrSharpness | 0.000000 |
GradientBasedCorrTemperature | 0.054260 |
GradientBasedCorrTint | -0.147290 |
GradientBasedCorrWhat | Correction |
GrainAmount | 0 |
GreenHue | +37 |
GreenSaturation | +88 |
HasCrop | True |
HasSettings | True |
Highlights2012 | -72 |
HueAdjustmentAqua | +9 |
HueAdjustmentBlue | +9 |
HueAdjustmentGreen | +20 |
HueAdjustmentMagenta | 0 |
HueAdjustmentOrange | +3 |
HueAdjustmentPurple | +7 |
HueAdjustmentRed | -8 |
HueAdjustmentYellow | +18 |
HyperfocalDistance | 53.95 m |
ImageHeight | 829 |
ImageNumber | 0 |
ImageSize | 1200x829 |
ImageWidth | 1200 |
ISO | 1000 |
Keywords | 2018, BOFK, Bodø, IgorKostin, Island, Norway |
Lens | EF28-300mm f/3.5-5.6L IS USM |
LensID (1) | 233 |
LensID | Canon EF 28-300mm f/3.5-5.6L IS USM |
LensInfo | 28-300mm f/? |
LensManualDistortionAmount | 0 |
LensModel | EF28-300mm f/3.5-5.6L IS USM |
LensProfileEnable | 0 |
LensProfileSetup | LensDefaults |
LensSerialNumber | 000020a680 |
LightValue | 12.3 |
LookName | |
LuminanceAdjustmentAqua | +16 |
LuminanceAdjustmentBlue | 0 |
LuminanceAdjustmentGreen | +22 |
LuminanceAdjustmentMagenta | 0 |
LuminanceAdjustmentOrange | +27 |
LuminanceAdjustmentPurple | 0 |
LuminanceAdjustmentRed | +7 |
LuminanceAdjustmentYellow | +18 |
LuminanceSmoothing | 0 |
Make | Canon |
Marked | True |
MaxApertureValue | 3.7 |
Megapixels | 0.995 |
MeteringMode | Multi-segment |
Model | Canon EOS 7D Mark II |
ModifyDate (1) | 2018:07:01 09:22:33+02:00 |
ModifyDate | 2018:07:01 09:22:33 |
OverrideLookVignette | True |
ParametricDarks | -15 |
ParametricHighlights | 0 |
ParametricHighlightSplit | 87 |
ParametricLights | 0 |
ParametricMidtoneSplit | 50 |
ParametricShadows | -6 |
ParametricShadowSplit | 10 |
PerspectiveAspect | 0 |
PerspectiveHorizontal | 0 |
PerspectiveRotate | 0.0 |
PerspectiveScale | 100 |
PerspectiveUpright | 0 |
PerspectiveVertical | 0 |
PerspectiveX | 0.00 |
PerspectiveY | 0.00 |
PostCropVignetteAmount | -8 |
PostCropVignetteFeather | 100 |
PostCropVignetteHighlightContrast | 100 |
PostCropVignetteMidpoint | 0 |
PostCropVignetteRoundness | 0 |
PostCropVignetteStyle | 1 |
ProcessVersion | 10.0 |
ProfileDescription | sRGB IEC61966-2.1 |
Rating | 3 |
RawFileName | 20180615_Island-292.CR2 |
RecommendedExposureIndex | 1000 |
RedHue | +46 |
RedSaturation | -48 |
Rights | All rights reserved |
Saturation | -16 |
SaturationAdjustmentAqua | -19 |
SaturationAdjustmentBlue | -26 |
SaturationAdjustmentGreen | -15 |
SaturationAdjustmentMagenta | -2 |
SaturationAdjustmentOrange | -9 |
SaturationAdjustmentPurple | -23 |
SaturationAdjustmentRed | +5 |
SaturationAdjustmentYellow | -5 |
ScaleFactor35efl | 7.2 |
SceneCaptureType | Standard |
SensitivityType | Recommended Exposure Index |
SerialNumber | 343055001281 |
Shadows2012 | +37 |
ShadowTint | 0 |
SharpenDetail | 25 |
SharpenEdgeMasking | 0 |
SharpenRadius | +1.0 |
Sharpness | 40 |
ShutterSpeed | 1/4000 |
ShutterSpeedValue | 1/4000 |
Software | Adobe Photoshop Lightroom Classic 7.4 (Macintosh) |
SplitToningBalance | -10 |
SplitToningHighlightHue | 42 |
SplitToningHighlightSaturation | 2 |
SplitToningShadowHue | 224 |
SplitToningShadowSaturation | 29 |
Subject | 2018, BOFK, Bodø, IgorKostin, Island, Norway |
Tint | +24 |
ToneCurve | 0, 0, 255, 255 |
ToneCurveBlue | 0, 0, 255, 255 |
ToneCurveGreen | 0, 0, 255, 255 |
ToneCurveName | Linear |
ToneCurveName2012 | Custom |
ToneCurvePV2012 | 0, 47, 44, 57, 74, 83, 119, 125, 203, 209, 255, 247 |
ToneCurvePV2012Blue | 0, 36, 24, 46, 81, 92, 204, 202, 255, 248 |
ToneCurvePV2012Green | 0, 0, 255, 255 |
ToneCurvePV2012Red | 0, 23, 43, 56, 125, 127, 195, 196, 255, 255 |
ToneCurveRed | 0, 0, 255, 255 |
ToneMapStrength | 0 |
UsageTerms | Please contact |
Version | 10.4 |
Vibrance | +30 |
VignetteAmount | 0 |
WhiteBalance (1) | As Shot |
WhiteBalance | Auto |
Whites2012 | +17 |