Felt | Verdi |
AlreadyApplied | True |
AngleAdj | 0 |
Aperture | 11.0 |
ApertureValue | 11.0 |
AutoLightingOptimizer | n/a |
AutoLightingOptimizerOn | No |
BitsPerSample | 8 |
BlueCurveLimits | 255 0 255 0 |
BlueCurvePoints | (0,0) (255,255) |
BlueHue | 0 |
BlueSaturation | 0 |
Brightness | +57 |
BrightnessAdj | 0 |
CameraProfile | Adobe Standard |
CheckMark | 3 |
CheckMark2 | 3 |
ChromaticAberration | 100% |
ChromaticAberrationB | 0 |
ChromaticAberrationBlue | 0 |
ChromaticAberrationOn | No |
ChromaticAberrationR | 0 |
ChromaticAberrationRed | 0 |
ChrominanceNoiseReduction | 0 |
ChrominanceNR_TIFF_JPEG | 0 |
CircleOfConfusion | 0.019 mm |
Clarity | 0 |
ColorBlur | No |
ColorComponents | 3 |
ColorMode | RGB |
ColorNoiseReduction | 25 |
ColorNoiseReductionDetail | 50 |
ColorSpace | Uncalibrated |
ColorTemperature | 4184 |
ColorToneAdj | 0 |
ColorTransform | YCbCr |
ConstrainedCropHeight | 0 |
ConstrainedCropWidth | 0 |
Contrast | +48 |
ContrastAdj | 0 |
ConvertToGrayscale | False |
CreateDate (1) | 2010:04:11 20:00:59.68+02:00 |
CreateDate | 2010:04:11 20:00:59 |
CreatorTool | Adobe Photoshop Lightroom |
CropActive | No |
CropAngle | 0 |
CropAspectRatio | Free |
CropBottom | 1 |
CropCircleActive | No |
CropCircleRadius | 0 |
CropCircleX | 0 |
CropCircleY | 0 |
CropHeight (1) | 2655 |
CropHeight | 0 |
CropLeft (1) | 0.050793 |
CropLeft | 0 |
CropRight | 0.919576 |
CropTop (1) | 0.161904 |
CropTop | 0 |
CropUnit | pixels |
CropWidth (1) | 4128 |
CropWidth | 0 |
CustomColorTone | 0 |
CustomContrast | 0 |
CustomDefaultUnsharpFineness | 7 |
CustomDefaultUnsharpStrength | 0 |
CustomDefaultUnsharpThreshold | 1 |
CustomLinear | No |
CustomOutputHighlightPoint | 0 |
CustomOutputShadowPoint | 0 |
CustomRawHighlight | 0 |
CustomRawHighlightPoint | 0 |
CustomRawShadow | 0 |
CustomRawShadowPoint | 0 |
CustomRendered | Normal |
CustomSaturation | 0 |
CustomSharpness | 0 |
CustomUnsharpMaskFineness | 7 |
CustomUnsharpMaskStrength | 0 |
CustomUnsharpMaskThreshold | 1 |
DateTimeDigitized | 2010:04:11 20:00:59.68+02:00 |
DateTimeOriginal (1) | 2010:04:11 20:00:59.68+02:00 |
DateTimeOriginal | 2010:04:11 20:00:59 |
Defringe | 0 |
DistortionCorrection | 100% |
DistortionCorrectionOn | No |
DynamicRangeMax | 4095 |
DynamicRangeMin | 0 |
ExifImageHeight | 2655 |
ExifImageWidth | 4128 |
Exposure | -1.70 |
ExposureCompensation | -1/3 |
ExposureMode | Auto |
ExposureProgram | Aperture-priority AE |
ExposureTime | 1/8 |
FaithfulOutputHighlightPoint | 0 |
FaithfulOutputShadowPoint | 0 |
FaithfulRawColorTone | 0 |
FaithfulRawContrast | 0 |
FaithfulRawHighlight | 0 |
FaithfulRawHighlightPoint | 0 |
FaithfulRawLinear | No |
FaithfulRawSaturation | 0 |
FaithfulRawShadow | 0 |
FaithfulRawShadowPoint | 0 |
FaithfulRawSharpness | 0 |
FaithfulUnsharpMaskFineness | 7 |
FaithfulUnsharpMaskStrength | 0 |
FaithfulUnsharpMaskThreshold | 1 |
FillLight | 6 |
Firmware | 1.0.7 |
Flash | Off, Did not fire |
FlashCompensation | 0 |
FlashFired | False |
FlashFunction | False |
FlashMode | Off |
FlashRedEyeMode | False |
FlashReturn | No return detection |
FNumber | 11.0 |
FocalLength | 34.0 mm |
FocalLength35efl | 34.0 mm (35 mm equivalent: 53.9 mm) |
Format | image/jpeg |
FOV | 36.9 deg |
GrainAmount | 0 |
GreenCurveLimits | 255 0 255 0 |
GreenCurvePoints | (0,0) (255,255) |
GreenHue | 0 |
GreenSaturation | 0 |
HasCrop | True |
HasSettings | True |
HighlightRecovery | 29 |
HueAdjustmentAqua | 0 |
HueAdjustmentBlue | 0 |
HueAdjustmentGreen | 0 |
HueAdjustmentMagenta | 0 |
HueAdjustmentOrange | 0 |
HueAdjustmentPurple | 0 |
HueAdjustmentRed | 0 |
HueAdjustmentYellow | 0 |
HyperfocalDistance | 5.54 m |
ICCProfileName | Adobe RGB (1998) |
ImageHeight | 2655 |
ImageNumber | 0 |
ImageSize | 4128x2655 |
ImageWidth | 4128 |
IsCustomPictureStyle | No |
ISO | 100 |
LandscapeOutputHighlightPoint | 0 |
LandscapeOutputShadowPoint | 0 |
LandscapeRawColorTone | 0 |
LandscapeRawContrast | 0 |
LandscapeRawHighlight | 0 |
LandscapeRawHighlightPoint | 0 |
LandscapeRawLinear | No |
LandscapeRawSaturation | 0 |
LandscapeRawShadow | 0 |
LandscapeRawShadowPoint | 0 |
LandscapeRawSharpness | 0 |
LandscapeUnsharpMaskFineness | 7 |
LandscapeUnsharpMaskStrength | 0 |
LandscapeUnsharpMaskThreshold | 1 |
Lens | 17-50mm |
LensID (1) | 161 |
LensID | Tamron AF 17-50mm f/2.8 Di-II LD Aspherical |
LensInfo | 17-50mm f/? |
LightValue | 9.9 |
LuminanceAdjustmentAqua | 0 |
LuminanceAdjustmentBlue | 0 |
LuminanceAdjustmentGreen | 0 |
LuminanceAdjustmentMagenta | 0 |
LuminanceAdjustmentOrange | 0 |
LuminanceAdjustmentPurple | 0 |
LuminanceAdjustmentRed | 0 |
LuminanceAdjustmentYellow | 0 |
LuminanceCurveLimits | 255 0 255 0 |
LuminanceCurvePoints | (0,0) (255,255) |
LuminanceNoiseReduction | 2 |
LuminanceNR_TIFF_JPEG | 0 |
LuminanceSmoothing | 0 |
Make | Canon |
MaxApertureValue | 2.8 |
Megapixels | 11.0 |
MeteringMode | Multi-segment |
Model | Canon EOS 50D |
ModifyDate (1) | 2010:04:12 22:58:53+02:00 |
ModifyDate | 2010:04:12 22:58:53 |
MonochromeContrast | 0 |
MonochromeFilterEffect | None |
MonochromeLinear | No |
MonochromeOutputHighlightPoint | 0 |
MonochromeOutputShadowPoint | 0 |
MonochromeRawHighlight | 0 |
MonochromeRawHighlightPoint | 0 |
MonochromeRawShadow | 0 |
MonochromeRawShadowPoint | 0 |
MonochromeSharpness | 0 |
MonochromeToningEffect | None |
MonochromeUnsharpMaskFineness | 7 |
MonochromeUnsharpMaskStrength | 0 |
MonochromeUnsharpMaskThreshold | 1 |
NeutralOutputHighlightPoint | 0 |
NeutralOutputShadowPoint | 0 |
NeutralRawColorTone | 0 |
NeutralRawContrast | 0 |
NeutralRawHighlight | 0 |
NeutralRawHighlightPoint | 0 |
NeutralRawLinear | No |
NeutralRawSaturation | 0 |
NeutralRawShadow | 0 |
NeutralRawShadowPoint | 0 |
NeutralRawSharpness | 0 |
NeutralUnsharpMaskFineness | 7 |
NeutralUnsharpMaskThreshold | 1 |
NeutraUnsharpMaskStrength | 0 |
Orientation | Horizontal (normal) |
ParametricDarks | 0 |
ParametricHighlights | 0 |
ParametricHighlightSplit | 75 |
ParametricLights | 0 |
ParametricMidtoneSplit | 50 |
ParametricShadows | 0 |
ParametricShadowSplit | 25 |
PeripheralIllumination | 100% |
PeripheralIlluminationOn | No |
PictureStyle | Standard |
PortraitOutputHighlightPoint | 0 |
PortraitOutputShadowPoint | 0 |
PortraitRawColorTone | 0 |
PortraitRawContrast | 0 |
PortraitRawHighlight | 0 |
PortraitRawHighlightPoint | 0 |
PortraitRawLinear | No |
PortraitRawSaturation | 0 |
PortraitRawShadow | 0 |
PortraitRawShadowPoint | 0 |
PortraitRawSharpness | 0 |
PortraitUnsharpMaskFineness | 7 |
PortraitUnsharpMaskStrength | 0 |
PortraitUnsharpMaskThreshold | 1 |
PostCropVignetteAmount | 0 |
ProcessVersion | 5.7 |
ProfileDescription | Adobe RGB (1998) |
RawBrightnessAdj | 0.00 |
RawColorAdj | Shot Settings |
RawCustomSaturation | 0 |
RawCustomTone | 0 |
RedCurveLimits | 255 0 255 0 |
RedCurvePoints | (0,0) (255,255) |
RedHue | 0 |
RedSaturation | 0 |
RGBCurveLimits | 255 0 255 0 |
RGBCurvePoints | (0,0) (255,255) |
Rotation | 0 |
Saturation | +29 |
SaturationAdj | 100 |
SaturationAdjustmentAqua | 0 |
SaturationAdjustmentBlue | 0 |
SaturationAdjustmentGreen | 0 |
SaturationAdjustmentMagenta | 0 |
SaturationAdjustmentOrange | 0 |
SaturationAdjustmentPurple | 0 |
SaturationAdjustmentRed | 0 |
SaturationAdjustmentYellow | 0 |
ScaleFactor35efl | 1.6 |
SceneCaptureType | Standard |
SerialNumber | 1730730965 |
Shadows | 32 |
ShadowTint | 0 |
SharpenDetail | 25 |
SharpenEdgeMasking | 0 |
SharpenRadius | +1.0 |
Sharpness | 25 |
SharpnessAdj | 0 |
ShutterSpeed | 1/8 |
ShutterSpeedValue | 1/8 |
Software | Adobe Photoshop Elements 8.0 Windows |
SplitToningBalance | 0 |
SplitToningHighlightHue | 0 |
SplitToningHighlightSaturation | 0 |
SplitToningShadowHue | 0 |
SplitToningShadowSaturation | 0 |
StandardOutputHighlightPoint | 0 |
StandardOutputShadowPoint | 0 |
StandardRawColorTone | 0 |
StandardRawContrast | 0 |
StandardRawHighlight | 0 |
StandardRawHighlightPoint | 0 |
StandardRawLinear | No |
StandardRawSaturation | 0 |
StandardRawShadow | 0 |
StandardRawShadowPoint | 0 |
StandardRawSharpness | 0 |
StandardUnsharpMaskFineness | 7 |
StandardUnsharpMaskStrength | 0 |
StandardUnsharpMaskThreshold | 1 |
Tint | +26 |
ToneCurve | 0, 0, 32, 22, 64, 56, 128, 128, 192, 196, 255, 255 |
ToneCurveActive | Yes |
ToneCurveInterpolation | Curve |
ToneCurveMode | RGB |
ToneCurveName | Medium Contrast |
ToneCurveProperty | Shot Settings |
UnsharpMask | Off |
URL_List | |
Version | 6.0 |
Vibrance | 0 |
VignetteAmount | 0 |
VRDVersion | 3.10.1 |
WBAdjColorTemp | 5200 |
WBAdjRGGBLevels | 0 0 0 0 |
WBFineTuneActive | No |
WBFineTuneSaturation | 0 |
WBFineTuneTone | 0 |
WhiteBalance (2) | Custom |
WhiteBalance | Auto |
WhiteBalanceAdj | Shot Settings |
WorkColorSpace | sRGB |